BEGIN:VCALENDAR
VERSION:2.0
PRODID:-//Johnny H Adventures
CALSCALE:GREGORIAN
METHOD:PUBLISH
X-WR-CALNAME:Johnny H Adventures
X-ORIGINAL-URL:https://www.johnnyh.com.au/products/jhda-hunter-valley-airshow-26-3-23/
X-WR-CALDESC:JHDA: Hunter Valley Airshow (26.3.23)
BEGIN:VEVENT
DTSTART;TZID=Australia/Melbourne:20230326T070000
DTEND;TZID=Australia/Melbourne:20230326T190000
SUMMARY:JHDA: Hunter Valley Airshow (26.3.23)
DESCRIPTION:This blockbuster day of full-throttle family entertainment has something for everyone including hair-raising aerobatics, historical warbirds, amusement rides, markets, delicious street food and so much more. Plus you can take part in the paper aeroplane competition, jump in the virtual cockpit of a fighter jet or just sit back and watch the non-stop airborne spectacular taking place overhead.
URL:https://www.johnnyh.com.au/products/jhda-hunter-valley-airshow-26-3-23/
LOCATION:
END:VEVENT
END:VCALENDAR
