BEGIN:VCALENDAR
VERSION:2.0
PRODID:-//Johnny H Adventures
CALSCALE:GREGORIAN
METHOD:PUBLISH
X-WR-CALNAME:Johnny H Adventures
X-ORIGINAL-URL:https://www.johnnyh.com.au/products/jhsa-penrith-panthers-vs-eels-pre-season-11-2-23/
X-WR-CALDESC:JHSA: Penrith Panthers vs Eels Pre Season (11.2.23)
BEGIN:VEVENT
DTSTART;TZID=Australia/Melbourne:20230211T150000
DTEND;TZID=Australia/Melbourne:20230211T210000
SUMMARY:JHSA: Penrith Panthers vs Eels Pre Season (11.2.23)
DESCRIPTION:The 2023 Rugby League season is here! Our season starts with this pre-season clash between the two grand final contenders last year. This game will show who has spent the off-season working harder and how the Panthers title hopes might look in the early rounds.
URL:https://www.johnnyh.com.au/products/jhsa-penrith-panthers-vs-eels-pre-season-11-2-23/
LOCATION:
END:VEVENT
END:VCALENDAR
