BEGIN:VCALENDAR
VERSION:2.0
PRODID:-//Johnny H Adventures
CALSCALE:GREGORIAN
METHOD:PUBLISH
X-WR-CALNAME:Johnny H Adventures
X-ORIGINAL-URL:https://www.johnnyh.com.au/products/jhcd-lets-explore-twin-falls-12-2-23/
X-WR-CALDESC:JHDA: Lets Explore: Twin Falls (12.2.23)
BEGIN:VEVENT
DTSTART;TZID=Australia/Melbourne:20230212T100000
DTEND;TZID=Australia/Melbourne:20230212T160000
SUMMARY:JHDA: Lets Explore: Twin Falls (12.2.23)
DESCRIPTION:Purlingbrook falls are one of the Gold Coast's most spectacular and easily accessible waterfalls. We'll head up Springbrook, take in the mountain walking loop and then enjoy a picnic taking in the sights.
URL:https://www.johnnyh.com.au/products/jhcd-lets-explore-twin-falls-12-2-23/
LOCATION:
END:VEVENT
END:VCALENDAR
