BEGIN:VCALENDAR
VERSION:2.0
PRODID:-//Johnny H Adventures
CALSCALE:GREGORIAN
METHOD:PUBLISH
X-WR-CALNAME:Johnny H Adventures
X-ORIGINAL-URL:https://www.johnnyh.com.au/products/jpso-johnny-h-keepsakes-craft-club-series-25-2/
X-WR-CALDESC:JPSO: Johnny H Keepsakes Craft Club Series (18.2.23)
BEGIN:VEVENT
DTSTART;TZID=Australia/Melbourne:20230218T100000
DTEND;TZID=Australia/Melbourne:20230218T150000
SUMMARY:JPSO: Johnny H Keepsakes Craft Club Series (18.2.23)
DESCRIPTION:We know that Johnny H is perhaps best known for high-energy day trips, adventures, overnight stays and it's day programs but we want to provide opportunities for calm mindfulness as well. This series of events is designed to promote camaraderie, mateship and the opportunity to work on a long-term project improving our fine motor skills and practising mindfulness. We will pick one project we will work on over the course of the year which we'll be able to keep as a keepsake from the course. It is encouraged that clients attend each week to ensure the projects move at the same pace and that personal improvements are consistent.
URL:https://www.johnnyh.com.au/products/jpso-johnny-h-keepsakes-craft-club-series-25-2/
LOCATION:
END:VEVENT
END:VCALENDAR
