BEGIN:VCALENDAR
VERSION:2.0
PRODID:-//Johnny H Adventures
CALSCALE:GREGORIAN
METHOD:PUBLISH
X-WR-CALNAME:Johnny H Adventures
X-ORIGINAL-URL:https://www.johnnyh.com.au/products/jhda-fruit-picking-at-bilpin-26-2-23/
X-WR-CALDESC:JHDA: Fruit Picking at Bilpin (26.2.23)
BEGIN:VEVENT
DTSTART;TZID=Australia/Melbourne:20230226T090000
DTEND;TZID=Australia/Melbourne:20230226T160000
SUMMARY:JHDA: Fruit Picking at Bilpin (26.2.23)
DESCRIPTION:We're all set to take a trip out to Bilpin for some summer fruit picking. The wet start to summer and the recent dry period has created the perfect growing conditions and we're set to make the most of the bumper harvest.
URL:https://www.johnnyh.com.au/products/jhda-fruit-picking-at-bilpin-26-2-23/
LOCATION:
END:VEVENT
END:VCALENDAR
