BEGIN:VCALENDAR
VERSION:2.0
PRODID:-//Johnny H Adventures
CALSCALE:GREGORIAN
METHOD:PUBLISH
X-WR-CALNAME:Johnny H Adventures
X-ORIGINAL-URL:https://www.johnnyh.com.au/products/jhsa-nrl-titans-storm-18-03-23/
X-WR-CALDESC:JHSA: Live NRL Titans v Storm  (18.03.23)
BEGIN:VEVENT
DTSTART;TZID=Australia/Melbourne:20230318T140000
DTEND;TZID=Australia/Melbourne:20230318T180000
SUMMARY:JHSA: Live NRL Titans v Storm  (18.03.23)
DESCRIPTION:Soak up the atmosphere of live footy and cheer on our home team when the Gold Coast Titans face Melbourne Storm at Cbus Super Stadium in Robina on Saturday 18 March.
URL:https://www.johnnyh.com.au/products/jhsa-nrl-titans-storm-18-03-23/
LOCATION:
END:VEVENT
END:VCALENDAR
