BEGIN:VCALENDAR
VERSION:2.0
PRODID:-//Johnny H Adventures
CALSCALE:GREGORIAN
METHOD:PUBLISH
X-WR-CALNAME:Johnny H Adventures
X-ORIGINAL-URL:https://www.johnnyh.com.au/products/jhsa-penrith-reptile-show-26-3-23/
X-WR-CALDESC:JHSA: Penrith Reptile Show! (26.3.23)
BEGIN:VEVENT
DTSTART;TZID=Australia/Melbourne:20230326T090000
DTEND;TZID=Australia/Melbourne:20230326T160000
SUMMARY:JHSA: Penrith Reptile Show! (26.3.23)
DESCRIPTION:We're going to head to the Penrith Reptile Exhibition and take in the shows and if we're brave enough touch some of the animals on display. We'll spend time exploring the expo, take a break for lunch and spend the day with friends.
URL:https://www.johnnyh.com.au/products/jhsa-penrith-reptile-show-26-3-23/
LOCATION:
END:VEVENT
END:VCALENDAR
