BEGIN:VCALENDAR
VERSION:2.0
PRODID:-//Johnny H Adventures
CALSCALE:GREGORIAN
METHOD:PUBLISH
X-WR-CALNAME:Johnny H Adventures
X-ORIGINAL-URL:https://www.johnnyh.com.au/products/jhta-tasmania-fly-away-8-11-14-11-23/
X-WR-CALDESC:JHTA: Tasmania Fly-Away (8.11-14.11.23)
BEGIN:VEVENT
DTSTART;TZID=Australia/Melbourne:20231108T090000
DTEND;TZID=Australia/Melbourne:20231114T180000
SUMMARY:JHTA: Tasmania Fly-Away (8.11-14.11.23)
DESCRIPTION:We are going to "Fly-Away" to Tasmania and explore the southern island area. Using Hobart as our hub we'll adventure our from here exploring but will return to the same hotel at night to rest and refuel! Our days will be packed as we explore Hobart, visit Port Arthur and take in the beauty of Bruny Island.
URL:https://www.johnnyh.com.au/products/jhta-tasmania-fly-away-8-11-14-11-23/
LOCATION:
END:VEVENT
END:VCALENDAR
