BEGIN:VCALENDAR
VERSION:2.0
PRODID:-//Johnny H Adventures
CALSCALE:GREGORIAN
METHOD:PUBLISH
X-WR-CALNAME:Johnny H Adventures
X-ORIGINAL-URL:https://www.johnnyh.com.au/products/jhda-snow-time-in-the-hunter-valley-gardens-2-7-23/
X-WR-CALDESC:JHDA: Snow Time in the Hunter Valley Gardens (2.7.23)
BEGIN:VEVENT
DTSTART;TZID=Australia/Melbourne:20230702T080000
DTEND;TZID=Australia/Melbourne:20230702T170000
SUMMARY:JHDA: Snow Time in the Hunter Valley Gardens (2.7.23)
DESCRIPTION:Create a snow angel or build a snowman in the mega snow pit, race down the giant ice toboggan and glide across the massive ice skating rink. We'll also experience amazing amusement rides*, roving entertainment, hearty food and warm beverages as well as taking in the other sights and sounds of the Hunter Valley Gardens.
URL:https://www.johnnyh.com.au/products/jhda-snow-time-in-the-hunter-valley-gardens-2-7-23/
LOCATION:
END:VEVENT
END:VCALENDAR
