BEGIN:VCALENDAR
VERSION:2.0
PRODID:-//Johnny H Adventures
CALSCALE:GREGORIAN
METHOD:PUBLISH
X-WR-CALNAME:Johnny H Adventures
X-ORIGINAL-URL:https://www.johnnyh.com.au/products/jhta-perth-fly-away-6-9-12-9-23/
X-WR-CALDESC:JHTA: Perth Fly-Away (6.9-12.9.23)
BEGIN:VEVENT
DTSTART;TZID=Australia/Melbourne:20230906T060000
DTEND;TZID=Australia/Melbourne:20230912T210000
SUMMARY:JHTA: Perth Fly-Away (6.9-12.9.23)
DESCRIPTION:We are going to "Fly-Away" to Perth and take in the beauty of Western Australia. This trip will be a exploring rod trip with a few nights at the beginning of our journey before we head out and explore some more regional Western Australia destinations! Our days will be packed as we explore Rottnest Island and take in the shipwrecks museum amongst other Perth sights before we head down to Busselton and the wood pier that stretches nearly 2km to the Underwater Observatory, where life in a coral reef is on view. We'll then head out to Walpole and Dwellingup and take in the inland sights that this beautiful state has to offer.
URL:https://www.johnnyh.com.au/products/jhta-perth-fly-away-6-9-12-9-23/
LOCATION:
END:VEVENT
END:VCALENDAR
