BEGIN:VCALENDAR
VERSION:2.0
PRODID:-//Johnny H Adventures
CALSCALE:GREGORIAN
METHOD:PUBLISH
X-WR-CALNAME:Johnny H Adventures
X-ORIGINAL-URL:https://www.johnnyh.com.au/products/jhta-nsw-road-trip-see-the-snow-7-9-7-23/
X-WR-CALDESC:JHTA: NSW Road Trip: See the SNOW (7-9.7.23)
BEGIN:VEVENT
DTSTART;TZID=Australia/Melbourne:20230707T090000
DTEND;TZID=Australia/Melbourne:20230709T170000
SUMMARY:JHTA: NSW Road Trip: See the SNOW (7-9.7.23)
DESCRIPTION:We are going to "Road Trip" to Berridale and head out to the local snow fields to experience the snow in the foothills around either Cooma or Jindabyne depending on the weather.
URL:https://www.johnnyh.com.au/products/jhta-nsw-road-trip-see-the-snow-7-9-7-23/
LOCATION:
END:VEVENT
END:VCALENDAR
