BEGIN:VCALENDAR
VERSION:2.0
PRODID:-//Johnny H Adventures
CALSCALE:GREGORIAN
METHOD:PUBLISH
X-WR-CALNAME:Johnny H Adventures
X-ORIGINAL-URL:https://www.johnnyh.com.au/products/jhda-currumbin-wildlife-sanctuary-2-7-23/
X-WR-CALDESC:JHDA: Currumbin Wildlife Sanctuary (2.7.23)
BEGIN:VEVENT
DTSTART;TZID=Australia/Melbourne:20230702T090000
DTEND;TZID=Australia/Melbourne:20230702T160000
SUMMARY:JHDA: Currumbin Wildlife Sanctuary (2.7.23)
DESCRIPTION:Currumbin Wildlife Sanctuary has long been one of the Gold Coast's favourite attractions. Currumbin Wildlife Sanctuary offers visitors with a rare opportunity to get up close and very personal with all the wonderful animals which call the sanctuary home. Located in this 27 hectare oasis you can take part in interactive displays and presentations, enjoy wildlife shows presented by experts, visit the animals in their natural settings and maybe even get a little bit closer and cuddle up with a koala.
URL:https://www.johnnyh.com.au/products/jhda-currumbin-wildlife-sanctuary-2-7-23/
LOCATION:
END:VEVENT
END:VCALENDAR
