BEGIN:VCALENDAR
VERSION:2.0
PRODID:-//Johnny H Adventures
CALSCALE:GREGORIAN
METHOD:PUBLISH
X-WR-CALNAME:Johnny H Adventures
X-ORIGINAL-URL:https://www.johnnyh.com.au/products/jhda-zig-zag-railway-a-day-on-the-rail-24-9-23/
X-WR-CALDESC:JHDA: Zig Zag Railway: A Day on the Rail (24.9.23)
BEGIN:VEVENT
DTSTART;TZID=Australia/Melbourne:20230924T100000
DTEND;TZID=Australia/Melbourne:20230924T183000
SUMMARY:JHDA: Zig Zag Railway: A Day on the Rail (24.9.23)
DESCRIPTION:Whether you love casting a line at the crack of dawn, or sailing into the sunset, or perhaps just want to explore some of the boats on show, the Sydney International Boat Show is the place to celebrate all things boating and marine lifestyle. Hosted in the heart of Darling Harbour it has a reputation as one of the biggest marine lifestyle events in the Pacific. From paddleboards to power cruisers, sail boats to superyachts, the Sydney International Boat Show is your opportunity to check out the best and brightest in boating, watercraft and marine tech. With a showstopping lineup of entertainment and experiences in one stunning location, it’s a celebration that absolutely everyone can enjoy.
URL:https://www.johnnyh.com.au/products/jhda-zig-zag-railway-a-day-on-the-rail-24-9-23/
LOCATION:
END:VEVENT
END:VCALENDAR
