BEGIN:VCALENDAR
VERSION:2.0
PRODID:-//Johnny H Adventures
CALSCALE:GREGORIAN
METHOD:PUBLISH
X-WR-CALNAME:Johnny H Adventures
X-ORIGINAL-URL:https://www.johnnyh.com.au/products/jhda-seaworld-19-8-23/
X-WR-CALDESC:JHDA: Seaworld (19.8.23)
BEGIN:VEVENT
DTSTART;TZID=Australia/Melbourne:20230819T090000
DTEND;TZID=Australia/Melbourne:20230819T160000
SUMMARY:JHDA: Seaworld (19.8.23)
DESCRIPTION:There's so much to see and do at Seaworld but we'll be sure to take in all we can on this epic Day Adventure!
URL:https://www.johnnyh.com.au/products/jhda-seaworld-19-8-23/
LOCATION:
END:VEVENT
END:VCALENDAR
