BEGIN:VCALENDAR
VERSION:2.0
PRODID:-//Johnny H Adventures
CALSCALE:GREGORIAN
METHOD:PUBLISH
X-WR-CALNAME:Johnny H Adventures
X-ORIGINAL-URL:https://www.johnnyh.com.au/products/jhda-pacific-airshow-20-8-23/
X-WR-CALDESC:JHDA: Pacific Airshow (20.8.23)
BEGIN:VEVENT
DTSTART;TZID=Australia/Melbourne:20230820T090000
DTEND;TZID=Australia/Melbourne:20230820T170000
SUMMARY:JHDA: Pacific Airshow (20.8.23)
DESCRIPTION:Pacific Airshow is Redefining The Airshow Experience again - now on the Gold Coast! Pacific Airshow Gold Coast will be a three-day weekend event featuring heart-pumping aerobatic demonstrations by the world’s finest aviators, VIP meet and greet events, social parties, and so much more. Featuring the best civilian performers and military aviators from around the globe, Pacific Airshow Gold Coast is set to be the largest Airshow event to ever take place in Australia.
URL:https://www.johnnyh.com.au/products/jhda-pacific-airshow-20-8-23/
LOCATION:
END:VEVENT
END:VCALENDAR
