BEGIN:VCALENDAR
VERSION:2.0
PRODID:-//Johnny H Adventures
CALSCALE:GREGORIAN
METHOD:PUBLISH
X-WR-CALNAME:Johnny H Adventures
X-ORIGINAL-URL:https://www.johnnyh.com.au/products/jhsa-penrith-panthers-vs-cowboys-2-9-23/
X-WR-CALDESC:JHSA: Penrith Panthers vs Cowboys (2.9.23)
BEGIN:VEVENT
DTSTART;TZID=Australia/Melbourne:20230902T140000
DTEND;TZID=Australia/Melbourne:20230902T200000
SUMMARY:JHSA: Penrith Panthers vs Cowboys (2.9.23)
DESCRIPTION:This could be your last chance to see the MIGHTY Panthers play this year as the 2023 Rugby League season concludes with this game. Join us as we cheer on the mighty PANTHERS! This game is a showdown between the mighty Panthers and the Cowboys.
URL:https://www.johnnyh.com.au/products/jhsa-penrith-panthers-vs-cowboys-2-9-23/
LOCATION:
END:VEVENT
END:VCALENDAR
