BEGIN:VCALENDAR
VERSION:2.0
PRODID:-//Johnny H Adventures
CALSCALE:GREGORIAN
METHOD:PUBLISH
X-WR-CALNAME:Johnny H Adventures
X-ORIGINAL-URL:https://www.johnnyh.com.au/products/jhda-footy-at-gosford-3-9-23/
X-WR-CALDESC:JHDA: Footy at Gosford (3.9.23)
BEGIN:VEVENT
DTSTART;TZID=Australia/Melbourne:20230903T090000
DTEND;TZID=Australia/Melbourne:20230903T180000
SUMMARY:JHDA: Footy at Gosford (3.9.23)
DESCRIPTION:We're hitting the road for a epic day out at Gosford where we'll enjoy fish and chips by the water for lunch after exploring the town in the morning before watching the Womens NRL game between the Roosters and the Eels in the afternoon.
URL:https://www.johnnyh.com.au/products/jhda-footy-at-gosford-3-9-23/
LOCATION:
END:VEVENT
END:VCALENDAR
