BEGIN:VCALENDAR
VERSION:2.0
PRODID:-//Johnny H Adventures
CALSCALE:GREGORIAN
METHOD:PUBLISH
X-WR-CALNAME:Johnny H Adventures
X-ORIGINAL-URL:https://www.johnnyh.com.au/products/jhcd-lifeskills-holiday-program-friday-6-10-23/
X-WR-CALDESC:JHCD: Lifeskills Holiday Program Friday (6.10.23)
BEGIN:VEVENT
DTSTART;TZID=Australia/Melbourne:20231006T083000
DTEND;TZID=Australia/Melbourne:20231006T153000
SUMMARY:JHCD: Lifeskills Holiday Program Friday (6.10.23)
DESCRIPTION:This is the world-famous JohnnyH Day program focusing on life skills. Our day will be split into two with capacity-building activities in the morning and core support programming in the afternoon. Each day we'll undertake a different afternoon activity and will confirm what it is that we do closer to the time.
URL:https://www.johnnyh.com.au/products/jhcd-lifeskills-holiday-program-friday-6-10-23/
LOCATION:
END:VEVENT
END:VCALENDAR
