BEGIN:VCALENDAR
VERSION:2.0
PRODID:-//Johnny H Adventures
CALSCALE:GREGORIAN
METHOD:PUBLISH
X-WR-CALNAME:Johnny H Adventures
X-ORIGINAL-URL:https://www.johnnyh.com.au/products/jhsa-stardust-circus-19-8-23/
X-WR-CALDESC:JHSA: Stardust Circus (19.8.23)
BEGIN:VEVENT
DTSTART;TZID=Australia/Melbourne:20230819T110000
DTEND;TZID=Australia/Melbourne:20230819T170000
SUMMARY:JHSA: Stardust Circus (19.8.23)
DESCRIPTION:Welcome to Stardust Circus! Come and experience the fantastic array of talent and fun all under one Big top. From hilarious clowns, dogs, goats, ponies, incredible aerial performances and everything in between  there is definitely no dull moment here at Stardust! Come and say hello to their fantastic cast and crew and experience the fun of stardust.
URL:https://www.johnnyh.com.au/products/jhsa-stardust-circus-19-8-23/
LOCATION:
END:VEVENT
END:VCALENDAR
