BEGIN:VCALENDAR
VERSION:2.0
PRODID:-//Johnny H Adventures
CALSCALE:GREGORIAN
METHOD:PUBLISH
X-WR-CALNAME:Johnny H Adventures
X-ORIGINAL-URL:https://www.johnnyh.com.au/products/jpso-come-and-cook-1-10-23/
X-WR-CALDESC:JPSO: Come and Cook (1.10.23)
BEGIN:VEVENT
DTSTART;TZID=Australia/Melbourne:20231001T100000
DTEND;TZID=Australia/Melbourne:20231001T150000
SUMMARY:JPSO: Come and Cook (1.10.23)
DESCRIPTION:Get set for another Sunday of fun cooking with friends. In  this Come and Cook we're going to get ready for the footy final and prepare a variety of game day favourites. Certainly a day for those looking for some foodspiration!
URL:https://www.johnnyh.com.au/products/jpso-come-and-cook-1-10-23/
LOCATION:
END:VEVENT
END:VCALENDAR
