BEGIN:VCALENDAR
VERSION:2.0
PRODID:-//Johnny H Adventures
CALSCALE:GREGORIAN
METHOD:PUBLISH
X-WR-CALNAME:Johnny H Adventures
X-ORIGINAL-URL:https://www.johnnyh.com.au/products/jpso-nrl-grand-final-party-1-10-23/
X-WR-CALDESC:JPSO: NRL Grand Final Party (1.10.23)
BEGIN:VEVENT
DTSTART;TZID=Australia/Melbourne:20231001T150000
DTEND;TZID=Australia/Melbourne:20231001T220000
SUMMARY:JPSO: NRL Grand Final Party (1.10.23)
DESCRIPTION:It's come down to this! The NRL grand final is here and the big unknown is can the mighty Panthers make the Grand Finals and then take 3 in a row? What better way to watch the big game than with friends at Johnnys Place!! Don't forget the Monday is a public holiday so you'll get to sleep in after you've celebrated!
URL:https://www.johnnyh.com.au/products/jpso-nrl-grand-final-party-1-10-23/
LOCATION:
END:VEVENT
END:VCALENDAR
