BEGIN:VCALENDAR
VERSION:2.0
PRODID:-//Johnny H Adventures
CALSCALE:GREGORIAN
METHOD:PUBLISH
X-WR-CALNAME:Johnny H Adventures
X-ORIGINAL-URL:https://www.johnnyh.com.au/products/jpso-karaoke-sing-along-6-10-23/
X-WR-CALDESC:JPSO: Karaoke &#8211; Sing Along (6.10.23)
BEGIN:VEVENT
DTSTART;TZID=Australia/Melbourne:20231006T170000
DTEND;TZID=Australia/Melbourne:20231006T210000
SUMMARY:JPSO: Karaoke – Sing Along (6.10.23)
DESCRIPTION:Warm up your vocal chords and get ready to sing the night away! If you’ve never tried karaoke before you will not regret it! We'll have some dinner and support each other as we belt out our favourite tunes.
URL:https://www.johnnyh.com.au/products/jpso-karaoke-sing-along-6-10-23/
LOCATION:
END:VEVENT
END:VCALENDAR
