BEGIN:VCALENDAR
VERSION:2.0
PRODID:-//Johnny H Adventures
CALSCALE:GREGORIAN
METHOD:PUBLISH
X-WR-CALNAME:Johnny H Adventures
X-ORIGINAL-URL:https://www.johnnyh.com.au/products/jhda-gold-coast-show-3-9-23/
X-WR-CALDESC:JHDA: Gold Coast Show (3.9.23)
BEGIN:VEVENT
DTSTART;TZID=Australia/Melbourne:20230903T100000
DTEND;TZID=Australia/Melbourne:20230903T170000
SUMMARY:JHDA: Gold Coast Show (3.9.23)
DESCRIPTION:Get ready for an exhilarating long weekend as we invite you to immerse yourself in the fun and excitement of the 2023 Gold Coast Show. Nestled along the Broadwater Parklands on the Gold Coast, this annual extravaganza is a celebration of all things vibrant, entertaining, and unforgettable.
URL:https://www.johnnyh.com.au/products/jhda-gold-coast-show-3-9-23/
LOCATION:
END:VEVENT
END:VCALENDAR
