BEGIN:VCALENDAR
VERSION:2.0
PRODID:-//Johnny H Adventures
CALSCALE:GREGORIAN
METHOD:PUBLISH
X-WR-CALNAME:Johnny H Adventures
X-ORIGINAL-URL:https://www.johnnyh.com.au/products/jhda-toowoomba-flower-festival-16-9-23/
X-WR-CALDESC:JHDA: Toowoomba Flower Festival (16.9.23)
BEGIN:VEVENT
DTSTART;TZID=Australia/Melbourne:20230916T130000
DTEND;TZID=Australia/Melbourne:20230916T200000
SUMMARY:JHDA: Toowoomba Flower Festival (16.9.23)
DESCRIPTION:Every year, Toowoomba celebrates its reputation as the Garden City with the most spectacular display of spring flowers during the Toowoomba Carnival of Flowers. The longest running floral event of its kind in Australia, dating back to 1950, visitors travel far and wide to see the city’s gardens in full bloom. The carnival is back in 2023 with a huge 30 days of flowers and local flavour. What does this mean for visitors? Plenty more opportunity to visit, and lots of events to add to your calendar. Not just for garden enthusiasts, expect a vibrant celebration of music, food and wine, entertainment, parades, outdoor cinema and more. Here’s everything to know about this year’s Toowoomba Carnival of Flowers, beyond the beautiful blooms.
URL:https://www.johnnyh.com.au/products/jhda-toowoomba-flower-festival-16-9-23/
LOCATION:
END:VEVENT
END:VCALENDAR
