BEGIN:VCALENDAR
VERSION:2.0
PRODID:-//Johnny H Adventures
CALSCALE:GREGORIAN
METHOD:PUBLISH
X-WR-CALNAME:Johnny H Adventures
X-ORIGINAL-URL:https://www.johnnyh.com.au/products/jhda-australia-zoo-17-9-23/
X-WR-CALDESC:JHDA: Mount Tamborine &#038; Alpaca Farm  (23.9.23)
BEGIN:VEVENT
DTSTART;TZID=Australia/Melbourne:20230923T100000
DTEND;TZID=Australia/Melbourne:20230923T170000
SUMMARY:JHDA: Mount Tamborine & Alpaca Farm  (23.9.23)
DESCRIPTION:The Alpaca Farm here in Canungra has been operating for around a quarter of a century, and was purchased by owners Jen and Steve over 12 years ago. Originally located in the Green Mountains section of Lamington National Park, not far from O’Reilly’s Rainforest Retreat it has since relocated to a more accessible location with a totally relaunched customer experience focus.
URL:https://www.johnnyh.com.au/products/jhda-australia-zoo-17-9-23/
LOCATION:
END:VEVENT
END:VCALENDAR
