BEGIN:VCALENDAR
VERSION:2.0
PRODID:-//Johnny H Adventures
CALSCALE:GREGORIAN
METHOD:PUBLISH
X-WR-CALNAME:Johnny H Adventures
X-ORIGINAL-URL:https://www.johnnyh.com.au/products/jhsa-archie-brothers-30-9-23/
X-WR-CALDESC:JHSA: Archie Brothers (30.9.23)
BEGIN:VEVENT
DTSTART;TZID=Australia/Melbourne:20230930T100000
DTEND;TZID=Australia/Melbourne:20230930T160000
SUMMARY:JHSA: Archie Brothers (30.9.23)
DESCRIPTION:From classic arcade games to childhood favourites and raucous redemption games, everyone will feel like a winner at Archie Brothers. But wait, there’s more… we’ve packed out the venue with bumper cars, virtual reality experiences, thrillrider and laser tag. Bowling more your thing? Hit a strike and let loose on the lanes. Parties, catch-ups, and date nights all just got a serious fun overload. Dig in.
URL:https://www.johnnyh.com.au/products/jhsa-archie-brothers-30-9-23/
LOCATION:
END:VEVENT
END:VCALENDAR
