BEGIN:VCALENDAR
VERSION:2.0
PRODID:-//Johnny H Adventures
CALSCALE:GREGORIAN
METHOD:PUBLISH
X-WR-CALNAME:Johnny H Adventures
X-ORIGINAL-URL:https://www.johnnyh.com.au/products/jhda-dinosaurs-of-patagonia-exhibit-and-river-cruise-brisbane-7-10-23/
X-WR-CALDESC:JHDA: Dinosaurs of Patagonia Exhibit and River Cruise Brisbane  (7.10.23)
BEGIN:VEVENT
DTSTART;TZID=Australia/Melbourne:20231007T080000
DTEND;TZID=Australia/Melbourne:20231007T150000
SUMMARY:JHDA: Dinosaurs of Patagonia Exhibit and River Cruise Brisbane  (7.10.23)
DESCRIPTION:Discover the roarsome Dinosaurs of Patagonia featuring sixteen life-sized skeletons from South America's Age of Dinosaurs. Come face-to-face with the world's biggest dinosaur - the famous titanosaur Patagotitan; the razor-sharp teeth of the giant carnivore Tyrannotitan; and one of the world's earliest dinosaurs Herrerasaurus. Don’t miss your chance to see this once-in-a-lifetime exhibition 230 million years in the making, only at Queensland Museum! “The Titanosaur [Patagotitan] is one of the most extraordinary finds in the history of palaeontology.” – Sir David Attenborough.
URL:https://www.johnnyh.com.au/products/jhda-dinosaurs-of-patagonia-exhibit-and-river-cruise-brisbane-7-10-23/
LOCATION:
END:VEVENT
END:VCALENDAR
