BEGIN:VCALENDAR
VERSION:2.0
PRODID:-//Johnny H Adventures
CALSCALE:GREGORIAN
METHOD:PUBLISH
X-WR-CALNAME:Johnny H Adventures
X-ORIGINAL-URL:https://www.johnnyh.com.au/products/jhda-tangalooma-day-trip-14-10-23/
X-WR-CALDESC:JHDA: Tangalooma Day Trip  (14.10.23)
BEGIN:VEVENT
DTSTART;TZID=Australia/Melbourne:20231014T070000
DTEND;TZID=Australia/Melbourne:20231014T180000
SUMMARY:JHDA: Tangalooma Day Trip  (14.10.23)
DESCRIPTION:Experience the exhilaration of being at one with nature at Tangalooma Island Resort. With lots on offer and plenty of ways to discover and connect with the natural wildlife and environment of Moreton Island, it is not hard to see why Tangalooma is known as nature's theme park. A great getaway for families and couples, we're built for fun and famous for our wild dolphin feeding. We combine air, land and sea to give you a unique selection of tours and activities that let you experience the true beauty of Tangalooma and Moreton Island.
URL:https://www.johnnyh.com.au/products/jhda-tangalooma-day-trip-14-10-23/
LOCATION:
END:VEVENT
END:VCALENDAR
