BEGIN:VCALENDAR
VERSION:2.0
PRODID:-//Johnny H Adventures
CALSCALE:GREGORIAN
METHOD:PUBLISH
X-WR-CALNAME:Johnny H Adventures
X-ORIGINAL-URL:https://www.johnnyh.com.au/products/jhda-sydney-kings-v-brisbane-bullets-12-11-23/
X-WR-CALDESC:JHDA: Sydney Kings v Brisbane Bullets (12.11.23)
BEGIN:VEVENT
DTSTART;TZID=Australia/Melbourne:20231112T140000
DTEND;TZID=Australia/Melbourne:20231112T200000
SUMMARY:JHDA: Sydney Kings v Brisbane Bullets (12.11.23)
DESCRIPTION:NBA season is here! We're going to check out some of the local Sydney King Basketball games this year and we'll start off by watching them take on the Brisbane Bullets at Qudos bank arena.
URL:https://www.johnnyh.com.au/products/jhda-sydney-kings-v-brisbane-bullets-12-11-23/
LOCATION:
END:VEVENT
END:VCALENDAR
