BEGIN:VCALENDAR
VERSION:2.0
PRODID:-//Johnny H Adventures
CALSCALE:GREGORIAN
METHOD:PUBLISH
X-WR-CALNAME:Johnny H Adventures
X-ORIGINAL-URL:https://www.johnnyh.com.au/products/jhda-jamberoo-12-11-23/
X-WR-CALDESC:JHDA: Jamberoo (12.11.23)
BEGIN:VEVENT
DTSTART;TZID=Australia/Melbourne:20231112T080000
DTEND;TZID=Australia/Melbourne:20231112T180000
SUMMARY:JHDA: Jamberoo (12.11.23)
DESCRIPTION:NSW’s largest family-owned and operated water theme park, offering world-class rides and attractions in an impeccably maintained, natural setting between the mountains and the sea. There’s something for everyone at Jamberoo…where you control the action!
URL:https://www.johnnyh.com.au/products/jhda-jamberoo-12-11-23/
LOCATION:
END:VEVENT
END:VCALENDAR
