BEGIN:VCALENDAR
VERSION:2.0
PRODID:-//Johnny H Adventures
CALSCALE:GREGORIAN
METHOD:PUBLISH
X-WR-CALNAME:Johnny H Adventures
X-ORIGINAL-URL:https://www.johnnyh.com.au/products/jhda-murwillumbah-and-byron-bay-lighthouse-5-11-23/
X-WR-CALDESC:JHDA: Murwillumbah and Byron Bay Lighthouse (5.11.23)
BEGIN:VEVENT
DTSTART;TZID=Australia/Melbourne:20231105T090000
DTEND;TZID=Australia/Melbourne:20231105T170000
SUMMARY:JHDA: Murwillumbah and Byron Bay Lighthouse (5.11.23)
DESCRIPTION:Join Johnny H for a full day adventure in Northern New South Wales as we explore Murwillumbah and then head down to Byron Bay, visiting the town and iconic Light House, Australia's most eastern point.
URL:https://www.johnnyh.com.au/products/jhda-murwillumbah-and-byron-bay-lighthouse-5-11-23/
LOCATION:
END:VEVENT
END:VCALENDAR
