BEGIN:VCALENDAR
VERSION:2.0
PRODID:-//Johnny H Adventures
CALSCALE:GREGORIAN
METHOD:PUBLISH
X-WR-CALNAME:Johnny H Adventures
X-ORIGINAL-URL:https://www.johnnyh.com.au/products/jhda-supanova-12-11-23/
X-WR-CALDESC:JHDA: Supanova (12.11.23)
BEGIN:VEVENT
DTSTART;TZID=Australia/Melbourne:20231112T090000
DTEND;TZID=Australia/Melbourne:20231112T170000
SUMMARY:JHDA: Supanova (12.11.23)
DESCRIPTION:You've seen the shows, read the comics, played the characters and maybe even dressed as them. Now you can meet the stars too! Supanova Comic Con &amp; Gaming is Australia's biggest and best pop culture convention, showcasing anything you can imagine, from film, television, comic books, gaming, sci-fi, fantasy and more!
URL:https://www.johnnyh.com.au/products/jhda-supanova-12-11-23/
LOCATION:
END:VEVENT
END:VCALENDAR
