BEGIN:VCALENDAR
VERSION:2.0
PRODID:-//Johnny H Adventures
CALSCALE:GREGORIAN
METHOD:PUBLISH
X-WR-CALNAME:Johnny H Adventures
X-ORIGINAL-URL:https://www.johnnyh.com.au/products/jpso-games-night-17-11-23/
X-WR-CALDESC:JPSO: Games Night (17.11.23)
BEGIN:VEVENT
DTSTART;TZID=Australia/Melbourne:20231117T170000
DTEND;TZID=Australia/Melbourne:20231117T210000
SUMMARY:JPSO: Games Night (17.11.23)
DESCRIPTION:Get ready to roll the dice, strategize, and enjoy an evening of friendly competition and laughter. Join us for a Games Night that promises hours of excitement, clever moves, and perhaps a little friendly rivalry. It's a chance to disconnect from screens, reconnect with friends, and indulge in classic and modern board game favorites. Mark your calendars and bring your game face – we can't wait to see who emerges as the ultimate board game champion!
URL:https://www.johnnyh.com.au/products/jpso-games-night-17-11-23/
LOCATION:
END:VEVENT
END:VCALENDAR
