BEGIN:VCALENDAR
VERSION:2.0
PRODID:-//Johnny H Adventures
CALSCALE:GREGORIAN
METHOD:PUBLISH
X-WR-CALNAME:Johnny H Adventures
X-ORIGINAL-URL:https://www.johnnyh.com.au/products/jhsa-lets-go-bowling-9-12-23/
X-WR-CALDESC:JHSA: Lets go Bowling (9.12.23)
BEGIN:VEVENT
DTSTART;TZID=Australia/Melbourne:20231209T120000
DTEND;TZID=Australia/Melbourne:20231209T170000
SUMMARY:JHSA: Lets go Bowling (9.12.23)
DESCRIPTION:Bowling is always one of Johnny H's favourite activities! We'll head to bowling for a couple of games after we've enjoyed lunch together at Johnnys Place. Come share some time with us and enjoy a social afternoon with friends.
URL:https://www.johnnyh.com.au/products/jhsa-lets-go-bowling-9-12-23/
LOCATION:
END:VEVENT
END:VCALENDAR
