BEGIN:VCALENDAR
VERSION:2.0
PRODID:-//Johnny H Adventures
CALSCALE:GREGORIAN
METHOD:PUBLISH
X-WR-CALNAME:Johnny H Adventures
X-ORIGINAL-URL:https://www.johnnyh.com.au/products/jhda-tropical-fruit-world-19-11-23/
X-WR-CALDESC:JHDA: Tropical Fruit World (19.11.23)
BEGIN:VEVENT
DTSTART;TZID=Australia/Melbourne:20231119T090000
DTEND;TZID=Australia/Melbourne:20231119T170000
SUMMARY:JHDA: Tropical Fruit World (19.11.23)
DESCRIPTION:More than 500 fruits from all around the World are grown here on this 200 acre family farm, and every season brings exotic, unusual and delicious fruit varieties for you to discover.  You’ll see, taste and learn about them when you climb aboard a tractor train and explore the plantation on a fully guided Park Tour: You’ll journey through the orchards by tractor train on our Plantation Safari Relax and enjoy our waterways on a Wildlife Boat Cruise Meet farm animal friends, kangaroos and emus in our Fauna Park Sample and learn about our seasonal fruits during your Fruit Tasting Session
URL:https://www.johnnyh.com.au/products/jhda-tropical-fruit-world-19-11-23/
LOCATION:
END:VEVENT
END:VCALENDAR
