BEGIN:VCALENDAR
VERSION:2.0
PRODID:-//Johnny H Adventures
CALSCALE:GREGORIAN
METHOD:PUBLISH
X-WR-CALNAME:Johnny H Adventures
X-ORIGINAL-URL:https://www.johnnyh.com.au/products/jhjp-term-4-life-skills-day-program-wednesdays-17-1-10-4-24/
X-WR-CALDESC:JHJP: Term 1 Life Skills Day Program Wednesdays (17.1-10.4.24)
BEGIN:VEVENT
DTSTART;TZID=Australia/Melbourne:20240410T083000
DTEND;TZID=Australia/Melbourne:20240410T153000
SUMMARY:JHJP: Term 1 Life Skills Day Program Wednesdays (17.1-10.4.24)
DESCRIPTION:Wednesdays we receive a fortnightly visit from the Nepean Therapy Dogs so we can be mindful of our surroundings and learn to sit in a calm space. In the alternate weeks though we learn to control our emotions as we take on a boxing-inspired fitness class with Boxability, not to mention burn a lot of calories! Our morning as usual will be spent building individual capacity.
URL:https://www.johnnyh.com.au/products/jhjp-term-4-life-skills-day-program-wednesdays-17-1-10-4-24/
LOCATION:
END:VEVENT
END:VCALENDAR
