BEGIN:VCALENDAR
VERSION:2.0
PRODID:-//Johnny H Adventures
CALSCALE:GREGORIAN
METHOD:PUBLISH
X-WR-CALNAME:Johnny H Adventures
X-ORIGINAL-URL:https://www.johnnyh.com.au/products/jhjp-term-1-life-skills-day-program-thursdays-18-1-11-4-24/
X-WR-CALDESC:JHJP: Term 1 Life Skills Day Program Thursdays (18.1-11.4.24)
BEGIN:VEVENT
DTSTART;TZID=Australia/Melbourne:20240411T090000
DTEND;TZID=Australia/Melbourne:20240411T160000
SUMMARY:JHJP: Term 1 Life Skills Day Program Thursdays (18.1-11.4.24)
DESCRIPTION:Thursdays we continue the tradition of afternoon Health and Fitness sessions to get moving with minimal impact on our joints. We'll head across to the provider once we conclude our morning group activities looking to increase the capacity of each client.
URL:https://www.johnnyh.com.au/products/jhjp-term-1-life-skills-day-program-thursdays-18-1-11-4-24/
LOCATION:
END:VEVENT
END:VCALENDAR
