BEGIN:VCALENDAR
VERSION:2.0
PRODID:-//Johnny H Adventures
CALSCALE:GREGORIAN
METHOD:PUBLISH
X-WR-CALNAME:Johnny H Adventures
X-ORIGINAL-URL:https://www.johnnyh.com.au/products/jhta-nrl-magic-round-brisbane-cbd-16-5-21-5-24/
X-WR-CALDESC:JHTA: NRL Magic Round Brisbane CBD (16.5-21.5.24)
BEGIN:VEVENT
DTSTART;TZID=Australia/Melbourne:20240516T060000
DTEND;TZID=Australia/Melbourne:20240521T190000
SUMMARY:JHTA: NRL Magic Round Brisbane CBD (16.5-21.5.24)
DESCRIPTION:"NRL Magic Round Getaway: Tackle the Excitement in Brisbane!" Gear up for a rugby extravaganza as we invite you to join us for the NRL Magic Round in the vibrant city of Brisbane! Be part of the rugby magic, witness thrilling matches, and soak in the electrifying atmosphere of one of the biggest rugby events of the year.
URL:https://www.johnnyh.com.au/products/jhta-nrl-magic-round-brisbane-cbd-16-5-21-5-24/
LOCATION:
END:VEVENT
END:VCALENDAR
