BEGIN:VCALENDAR
VERSION:2.0
PRODID:-//Johnny H Adventures
CALSCALE:GREGORIAN
METHOD:PUBLISH
X-WR-CALNAME:Johnny H Adventures
X-ORIGINAL-URL:https://www.johnnyh.com.au/products/jhda-day-trip-to-the-australian-reptile-park-3-2-24/
X-WR-CALDESC:JHDA: Day Trip to the Australian Reptile Park (3.2.24)
BEGIN:VEVENT
DTSTART;TZID=Australia/Melbourne:20240203T090000
DTEND;TZID=Australia/Melbourne:20240203T170000
SUMMARY:JHDA: Day Trip to the Australian Reptile Park (3.2.24)
DESCRIPTION:"Reptilian Rendezvous: Day Trip to the Australian Reptile Park" Embark on a day filled with slithery wonders and scaly adventures at the Australian Reptile Park! Join us for a reptilian rendezvous as we explore the fascinating world of reptiles, wildlife, and conservation.
URL:https://www.johnnyh.com.au/products/jhda-day-trip-to-the-australian-reptile-park-3-2-24/
LOCATION:
END:VEVENT
END:VCALENDAR
