BEGIN:VCALENDAR
VERSION:2.0
PRODID:-//Johnny H Adventures
CALSCALE:GREGORIAN
METHOD:PUBLISH
X-WR-CALNAME:Johnny H Adventures
X-ORIGINAL-URL:https://www.johnnyh.com.au/products/jpso-come-and-cook-mexican-culinary-fiesta-3-2-24/
X-WR-CALDESC:JPSO: Come and Cook: Mexican Culinary Fiesta (3.2.24)
BEGIN:VEVENT
DTSTART;TZID=Australia/Melbourne:20240203T110000
DTEND;TZID=Australia/Melbourne:20240203T170000
SUMMARY:JPSO: Come and Cook: Mexican Culinary Fiesta (3.2.24)
DESCRIPTION:"Come and Cook Extravaganza: Mexican Culinary Fiesta" Spice up your culinary skills at our Mexican-themed "Come and Cook" class! Join us for a fiesta of flavors, where you'll learn to create delicious Mexican dishes from scratch.
URL:https://www.johnnyh.com.au/products/jpso-come-and-cook-mexican-culinary-fiesta-3-2-24/
LOCATION:
END:VEVENT
END:VCALENDAR
