BEGIN:VCALENDAR
VERSION:2.0
PRODID:-//Johnny H Adventures
CALSCALE:GREGORIAN
METHOD:PUBLISH
X-WR-CALNAME:Johnny H Adventures
X-ORIGINAL-URL:https://www.johnnyh.com.au/products/jhsa-night-at-the-movies-kung-fu-panda-4-5-4-24/
X-WR-CALDESC:JHSA: Night at the Movies: Kung Fu Panda 4 (5.4.24)
BEGIN:VEVENT
DTSTART;TZID=Australia/Melbourne:20240405T170000
DTEND;TZID=Australia/Melbourne:20240405T210000
SUMMARY:JHSA: Night at the Movies: Kung Fu Panda 4 (5.4.24)
DESCRIPTION:"Night at the Movies: Kung Fu Panda 4" Prepare for a cinematic journey with our special Night at the Movies featuring the highly anticipated "Kung Fu Panda 4." Join us for an unforgettable evening filled with laughter, excitement, and the heartwarming antics of everyone's favorite martial arts-loving panda.
URL:https://www.johnnyh.com.au/products/jhsa-night-at-the-movies-kung-fu-panda-4-5-4-24/
LOCATION:
END:VEVENT
END:VCALENDAR
