BEGIN:VCALENDAR
VERSION:2.0
PRODID:-//Johnny H Adventures
CALSCALE:GREGORIAN
METHOD:PUBLISH
X-WR-CALNAME:Johnny H Adventures
X-ORIGINAL-URL:https://www.johnnyh.com.au/products/jhda-roosters-vs-panthers-nrl-showdown-28-3-24/
X-WR-CALDESC:JHDA: Roosters vs Panthers NRL Showdown! (28.3.24)
BEGIN:VEVENT
DTSTART;TZID=Australia/Melbourne:20240328T160000
DTEND;TZID=Australia/Melbourne:20240328T230000
SUMMARY:JHDA: Roosters vs Panthers NRL Showdown! (28.3.24)
DESCRIPTION:Roosters vs Panthers NRL Showdown! Witness the clash of titans as the Sydney Roosters take on the Penrith Panthers in a rugby league showdown that promises high-octane action, fierce competition, and adrenaline-pumping moments!
URL:https://www.johnnyh.com.au/products/jhda-roosters-vs-panthers-nrl-showdown-28-3-24/
LOCATION:
END:VEVENT
END:VCALENDAR
