BEGIN:VCALENDAR
VERSION:2.0
PRODID:-//Johnny H Adventures
CALSCALE:GREGORIAN
METHOD:PUBLISH
X-WR-CALNAME:Johnny H Adventures
X-ORIGINAL-URL:https://www.johnnyh.com.au/products/jpso-bingo-bonanza-roll-the-dice-chase-the-numbers-12-4-24/
X-WR-CALDESC:JPSO: Bingo Bonanza: Roll the Dice, Chase the Numbers! (12.4.24)
BEGIN:VEVENT
DTSTART;TZID=Australia/Melbourne:20240412T170000
DTEND;TZID=Australia/Melbourne:20240412T210000
SUMMARY:JPSO: Bingo Bonanza: Roll the Dice, Chase the Numbers! (12.4.24)
DESCRIPTION:"Bingo Bonanza: Roll the Dice, Chase the Numbers!" Get ready for an evening of excitement and anticipation as we bring you Bingo Bonanza! It's not just a game; it's a thrill, a laugh, and a chance to shout "BINGO!" Gather your lucky charms, bring your competitive spirit, and join us for a night that promises to be a bingo-lover's paradise.
URL:https://www.johnnyh.com.au/products/jpso-bingo-bonanza-roll-the-dice-chase-the-numbers-12-4-24/
LOCATION:
END:VEVENT
END:VCALENDAR
