BEGIN:VCALENDAR
VERSION:2.0
PRODID:-//Johnny H Adventures
CALSCALE:GREGORIAN
METHOD:PUBLISH
X-WR-CALNAME:Johnny H Adventures
X-ORIGINAL-URL:https://www.johnnyh.com.au/products/jhta-gold-coast-17-22-10-24/
X-WR-CALDESC:JHTA: Gold Coast Getaway: Six Days of Sunshine and Thrills (17-22.10.24)
BEGIN:VEVENT
DTSTART;TZID=Australia/Melbourne:20241017T070000
DTEND;TZID=Australia/Melbourne:20241022T170000
SUMMARY:JHTA: Gold Coast Getaway: Six Days of Sunshine and Thrills (17-22.10.24)
DESCRIPTION:Gold Coast Getaway: Six Days of Sunshine and Thrills Join us for a six-day trip to Queensland's Gold Coast, where sun-kissed beaches, exciting theme parks, and serene hinterlands set the stage for an unforgettable experience. From the lively streets of Surfers Paradise to the peaceful Mount Tamborine, each day is filled with new experiences that promise to make lasting memories in one of Australia's favourite destinations.
URL:https://www.johnnyh.com.au/products/jhta-gold-coast-17-22-10-24/
LOCATION:
END:VEVENT
END:VCALENDAR
