BEGIN:VCALENDAR
VERSION:2.0
PRODID:-//Johnny H Adventures
CALSCALE:GREGORIAN
METHOD:PUBLISH
X-WR-CALNAME:Johnny H Adventures
X-ORIGINAL-URL:https://www.johnnyh.com.au/products/jhulrn-semester-4-wednesdays-independence-2-10-11-12-24/
X-WR-CALDESC:JHULrn: Semester 4 Wednesdays: Independent Me (2.10-11.12.24)
BEGIN:VEVENT
DTSTART;TZID=Australia/Melbourne:20241211T090000
DTEND;TZID=Australia/Melbourne:20241211T153000
SUMMARY:JHULrn: Semester 4 Wednesdays: Independent Me (2.10-11.12.24)
DESCRIPTION:Independent Me: Building Essential Life Skills Welcome to "Independent Me," a transformative learning journey designed to equip individuals with learning and development disabilities with essential life skills for navigating work, relationships, and everyday challenges. Through this course, participants will gain the knowledge and confidence to take control of their lives and achieve greater independence. &nbsp;
URL:https://www.johnnyh.com.au/products/jhulrn-semester-4-wednesdays-independence-2-10-11-12-24/
LOCATION:
END:VEVENT
END:VCALENDAR
