BEGIN:VCALENDAR
VERSION:2.0
PRODID:-//Johnny H Adventures
CALSCALE:GREGORIAN
METHOD:PUBLISH
X-WR-CALNAME:Johnny H Adventures
X-ORIGINAL-URL:https://www.johnnyh.com.au/products/jhulrn-work-readiness-tuesdays-semester-4-1-10-10-12-24/
X-WR-CALDESC:JHULrn: Work Readiness Tuesdays Semester 4 (1.10-10.12.24)
BEGIN:VEVENT
DTSTART;TZID=Australia/Melbourne:20241210T090000
DTEND;TZID=Australia/Melbourne:20241210T153000
SUMMARY:JHULrn: Work Readiness Tuesdays Semester 4 (1.10-10.12.24)
DESCRIPTION:Work Readiness Program Step into a transformative learning experience tailored to empower individuals on their path to employment readiness and professional achievement. Throughout this comprehensive course, participants will delve into an array of topics curated to instil vital skills, foster deep knowledge, and cultivate unwavering confidence essential for workplace success and the pursuit of a harmonious work-life balance.
URL:https://www.johnnyh.com.au/products/jhulrn-work-readiness-tuesdays-semester-4-1-10-10-12-24/
LOCATION:
END:VEVENT
END:VCALENDAR
