BEGIN:VCALENDAR
VERSION:2.0
PRODID:-//Johnny H Adventures
CALSCALE:GREGORIAN
METHOD:PUBLISH
X-WR-CALNAME:Johnny H Adventures
X-ORIGINAL-URL:https://www.johnnyh.com.au/products/jhon-canberra-weekender-23-8-25-9-24/
X-WR-CALDESC:JHON: Canberra Weekend Adventure Plus Live NRL (23.8-25.8.24)
BEGIN:VEVENT
DTSTART;TZID=Australia/Melbourne:20240823T090000
DTEND;TZID=Australia/Melbourne:20240825T170000
SUMMARY:JHON: Canberra Weekend Adventure Plus Live NRL (23.8-25.8.24)
DESCRIPTION:Canberra Weekend Adventure Plus Live NRL Join us for an exciting weekend trip to Canberra filled with unique experiences, thrilling activities, and plenty of opportunities to connect with friends. Departing from Johnny’s Place on Friday morning, we’ll enjoy a variety of attractions, from a Harry Potter-themed store to a live NRL game, before returning on Sunday evening.
URL:https://www.johnnyh.com.au/products/jhon-canberra-weekender-23-8-25-9-24/
LOCATION:
END:VEVENT
END:VCALENDAR
