BEGIN:VCALENDAR
VERSION:2.0
PRODID:-//Johnny H Adventures
CALSCALE:GREGORIAN
METHOD:PUBLISH
X-WR-CALNAME:Johnny H Adventures
X-ORIGINAL-URL:https://www.johnnyh.com.au/products/jhda-friday-big-city-lights-dinner-05-07-24/
X-WR-CALDESC:JHSA: Friday Night Social Group: Big City Lights and Dinner (05.07.24)
BEGIN:VEVENT
DTSTART;TZID=Australia/Melbourne:20240705T160000
DTEND;TZID=Australia/Melbourne:20240705T210000
SUMMARY:JHSA: Friday Night Social Group: Big City Lights and Dinner (05.07.24)
DESCRIPTION:Friday Night Social Group: Big City Lights and Dinner  Immerse yourself in the vibrant atmosphere of the Big City Lights Festival, a dazzling display of light, colour, and creativity that transforms the Gold Coast into a radiant wonderland. This spectacular event features innovative light installations, interactive displays, and stunning visual art, offering an unforgettable evening of exploration and entertainment.
URL:https://www.johnnyh.com.au/products/jhda-friday-big-city-lights-dinner-05-07-24/
LOCATION:
END:VEVENT
END:VCALENDAR
